BEGIN:VCALENDAR
VERSION:2.0
PRODID:-//3nity.com//3nity CMS//EN
BEGIN:VEVENT
SUMMARY:Mothers Day Celebration
UID:2026-07-18-1216030@nccfalbany.com
SEQUENCE:0
STATUS:CONFIRMED
DTSTART:20260510T110000
DTEND:20260510T140000
DTSTAMP:20161222T120000
DESCRIPTION:Join us as we celebrate Mother's Day! We will be honoring several mothers who truly exemplify what it means to be both a woman of God and a devoted mother.
URL:http://nccfalbany.com
END:VEVENT
END:VCALENDAR
