BEGIN:VCALENDAR
VERSION:2.0
PRODID:-//3nity.com//3nity CMS//EN
BEGIN:VEVENT
SUMMARY:New Covenant Christian Fellowship's 32nd Church and Pastor's Anniversary
UID:2026-07-18-1215506@nccfalbany.com
SEQUENCE:0
STATUS:CONFIRMED
DTSTART:20260503T110000
DTEND:20260503T140000
DTSTAMP:20161222T120000
LOCATION: New Covenant Christian Fellowship, 365 Clinton Avenue, Albany, NY 12206
DESCRIPTION:
URL:http://nccfalbany.com
END:VEVENT
END:VCALENDAR
