BEGIN:VCALENDAR
VERSION:2.0
PRODID:-//3nity.com//3nity CMS//EN
BEGIN:VEVENT
SUMMARY:Simama: Breaking Family Strongholds
UID:2026-07-18-1187336@nccfalbany.com
SEQUENCE:0
STATUS:CONFIRMED
DTSTART:20260304T183000
DTEND:20260304T200000
DTSTAMP:20161222T120000
LOCATION: New Covenant Christian Fellowship, 365 Clinton Avenue, Albany, NY 12206
DESCRIPTION:This course equips families to gain victory over negative generational traits that have oppressed family members.
URL:http://nccfalbany.com
END:VEVENT
END:VCALENDAR
